BEGIN:VCALENDAR
PRODID:-//Cornell Cooperative Extension of Columbia and Greene Counties//NONSGML Cornell Cooperative Extension of Columbia and Greene Counties Events//EN
X-ORIGINAL-URL:
VERSION:2.0
CALSCALE:GREGORIAN
METHOD:PUBLISH
BEGIN:VEVENT
METHOD: PUBLISH
X-MS-OLK-FORCEINSPECTOROPEN:TRUE
DTSTART:20231117T101000
DTEND:20231117T130100
SUMMARY:Forest Farming Fundamentals
DTSTAMP:20110121T170000
LAST-MODIFIED:20231030T111131
CREATED:20231030T101019
SEQUENCE:0
TRANSP:TRANSPARENT
UID:26160
LOCATION:
URL:http://ccecolumbiagreene.org/events/2023/10/30/forest-farming-fundamentals
DESCRIPTION:If you are a land manager and are ready to learn more about the agroforestry practice of forest farming, this training is for you. Forest farming is the intentional integration of farming crops under the canopy of the forest and can building both diversity and resilience into farming systems.The increasing interest in agroforestry among land managers has produced a growing need for technical assistance. Join us and learn about the principles, design considerations, benefits, and challengers of farming in the forest.An online introductory course is available to watch in preparation for the training. This in-person class is free, and the online courses are $30.00 at www.learnagroforestry.comHosted by Tracey Testo, Agroforestry Program Manager - tet35@cornell.eduForest Farming Fundamentals Registration Link
CLASS:PUBLIC
CATEGORIES:
STATUS:CONFIRMED
END:VEVENT
END:VCALENDAR
n/a